BEGIN:VCALENDAR
VERSION:2.0
PRODID:-//Friends of Sears Island, Maine - ECPv6.15.20//NONSGML v1.0//EN
CALSCALE:GREGORIAN
METHOD:PUBLISH
X-WR-CALNAME:Friends of Sears Island, Maine
X-ORIGINAL-URL:https://friendsofsearsisland.org
X-WR-CALDESC:Events for Friends of Sears Island, Maine
REFRESH-INTERVAL;VALUE=DURATION:PT1H
X-Robots-Tag:noindex
X-PUBLISHED-TTL:PT1H
BEGIN:VTIMEZONE
TZID:UTC
BEGIN:STANDARD
TZOFFSETFROM:+0000
TZOFFSETTO:+0000
TZNAME:UTC
DTSTART:20210101T000000
END:STANDARD
END:VTIMEZONE
BEGIN:VEVENT
DTSTART;TZID=UTC:20240314T183000
DTEND;TZID=UTC:20240314T193000
DTSTAMP:20260422T062829
CREATED:20240301T202147Z
LAST-MODIFIED:20240301T202528Z
UID:8134-1710441000-1710444600@friendsofsearsisland.org
SUMMARY:Mammals and More on the Move in March
DESCRIPTION:Photo: A fisher in a tree\, by Kirk Gentalen \nFriends of Sears Island\, the Belfast Free Library\, and Maine Coast Heritage Trust invite you to a presentation about wildlife activity in this area of the mid-coast in March\, to be held on Thursday\, March 14\, from 6:30-7:30 pm in the Abbott Room at the Belfast Free Library. There will also be a Zoom-in option for this program for those who aren’t able to attend in person. \nAround these parts\, March is a wonderful month full of transitions (is there a month that isn’t full of transitions?). When it comes to animal activity in mid-coast Maine in March\, there’s lots going on\, and more to come as we move toward spring. Join Maine Coast Heritage Trust’s Land Steward and Nature Observer\, Kirk Gentalen\, for a lively and insightful presentation about where things are at (presently) wildlife-wise and what Kirk’s looking forward to crossing paths with soon enough. Through stories and slides\, both loaded with tips and laden with information\, we’ll get ourselves ready for spring\, which will be only days away. \nKirk Gentalen is a regional stewardship manager for the Maine Coast Heritage Trust for mid-coast Maine (mcht.org) and has 30 years of environmental education experience from working all over the country. Currently living on the St George peninsula with his family\, Amy and Leif\, Gentalen writes a nature column (‘Nature Bummin’) for MCHT (mcht.org/story-tag/nature-bummin) and edits the Vinalhaven Sightings Report (vinalhavensightings.blogspot.com). \nIf you plan to join this program by Zoom\, please register in advance at http://tinyurl.com/yzenuz9u. No need to register if attending in person.
URL:https://friendsofsearsisland.org/event/mammals-and-more-on-the-move-in-march/
LOCATION:Belfast Free Library\, 106 High St\, Belfast\, ME\, 04915\, United States
CATEGORIES:Family Activity,Natural History Seminar,Zoom Nature Program
ATTACH;FMTTYPE=image/jpeg:https://friendsofsearsisland.org/wp-content/uploads/2024/03/Fisher-by-Kirk-Gentalen.jpg
END:VEVENT
BEGIN:VEVENT
DTSTART;TZID=UTC:20221115T183000
DTEND;TZID=UTC:20221115T200000
DTSTAMP:20260422T062829
CREATED:20221102T155917Z
LAST-MODIFIED:20221102T160350Z
UID:8022-1668537000-1668542400@friendsofsearsisland.org
SUMMARY:Maine Through the Seasons
DESCRIPTION:Zoom Presentation with Sandra Mitchell \nFriends of Sears Island and the Carver Memorial Library will co-sponsor a live Zoom presentation titled “Maine Through the Seasons\,” on Tuesday\, November 15\, at 6:30 pm. Naturalist and photographer Sandra Mitchell will help us to visit the natural world through the lens of her camera\, pausing to discuss the natural history of some of Maine’s most fascinating natural phenomena. \nSandra Mitchell is a Registered Maine Guide and an avid amateur naturalist. She enjoys investigating natural mysteries. Her website is https://www.sandra-mitchell.com/home. No pre-registration is required. To join this free Zoom presentation\, simply visit https://networkmaine.zoom.us/j/87883196188 on November 15 at 6:30pm. To learn more about Friends of Sears Island visit www.friendsofsearsisland.org\, and for more information about Carver Memorial Library\, check out www.carverlibrary.org. \nPhoto: Loon chicks\, by Sandra Mitchell
URL:https://friendsofsearsisland.org/event/maine-through-the-seasons/
LOCATION:Virtual Event-ZOOM
CATEGORIES:Adult Nature Program,Natural History Seminar,Zoom Nature Program
ATTACH;FMTTYPE=image/jpeg:https://friendsofsearsisland.org/wp-content/uploads/2022/11/Loon-chicks.jpeg
END:VEVENT
END:VCALENDAR